BEGIN:VCALENDAR
VERSION:2.0
PRODID:-//Filmhuis Mechelen - ECPv4.3.1.1//NONSGML v1.0//EN
CALSCALE:GREGORIAN
METHOD:PUBLISH
X-WR-CALNAME:Filmhuis Mechelen
X-ORIGINAL-URL:https://www.filmhuismechelen.be
X-WR-CALDESC:Events for Filmhuis Mechelen
BEGIN:VEVENT
DTSTART;TZID=UTC+2:20201004T110000
DTEND;TZID=UTC+2:20201004T110000
DTSTAMP:20260421T004916
CREATED:20200713T192058Z
LAST-MODIFIED:20201003T205844Z
UID:17473-1601809200-1601809200@www.filmhuismechelen.be
SUMMARY:Familiefilm: HET VARKEN\, DE VOS EN DE MOLEN (uitverkocht!)
DESCRIPTION:Vertoning:\nZONDAG 4 OKTOBER om 11u00\n\nOPGELET: Deze vertoning is ondertussen UITVERKOCHT\, maar u kunt al online tickets kopen voor onze volgende zondagse kinderfilm: ANIMA ON TOUR!\n\nWoordenloos\n Richtleeftijd: 3+\n\nALLE INFO & TRAILER HIER!\n\n\n\nIn al zijn eenvoud prachtige animatiefilm over een varkentje dat boven op een berg woont. Wanneer papa op pad gaat\, wordt het kleine varkentje opeens verantwoordelijk voor de molen\, en eigenlijk voor het hele dorp.\nGelukkig krijgt hij hulp van zijn beste maatje\, de vos.
URL:https://www.filmhuismechelen.be/vertoning/familiefilm-het-varken-de-vos-en-de-molen/
CATEGORIES:Kinderfilms,Programma
END:VEVENT
END:VCALENDAR