BEGIN:VCALENDAR
VERSION:2.0
PRODID:-//Filmhuis Mechelen - ECPv4.3.1.1//NONSGML v1.0//EN
CALSCALE:GREGORIAN
METHOD:PUBLISH
X-WR-CALNAME:Filmhuis Mechelen
X-ORIGINAL-URL:https://www.filmhuismechelen.be
X-WR-CALDESC:Events for Filmhuis Mechelen
BEGIN:VEVENT
DTSTART;TZID=UTC+2:20180212T203000
DTEND;TZID=UTC+2:20180212T203000
DTSTAMP:20260425T141003
CREATED:20180116T104335Z
LAST-MODIFIED:20180119T155033Z
UID:9273-1518467400-1518467400@www.filmhuismechelen.be
SUMMARY:FACADES
DESCRIPTION:DRIE VERTONINGEN!\nMaandag 12/2 om 20u30.\nDinsdag 13/2 om 18u30.\nMaandag 19/2 om 18u30.\n\n
URL:https://www.filmhuismechelen.be/vertoning/facades/
CATEGORIES:Programma
END:VEVENT
END:VCALENDAR