BEGIN:VCALENDAR
VERSION:2.0
PRODID:-//Filmhuis Mechelen - ECPv4.3.1.1//NONSGML v1.0//EN
CALSCALE:GREGORIAN
METHOD:PUBLISH
X-WR-CALNAME:Filmhuis Mechelen
X-ORIGINAL-URL:https://www.filmhuismechelen.be
X-WR-CALDESC:Events for Filmhuis Mechelen
BEGIN:VEVENT
DTSTART;TZID=UTC+2:20200929T204500
DTEND;TZID=UTC+2:20200929T204500
DTSTAMP:20260421T035114
CREATED:20200829T172125Z
LAST-MODIFIED:20200930T000705Z
UID:17681-1601412300-1601412300@www.filmhuismechelen.be
SUMMARY:ETE 85
DESCRIPTION:Kies de gewenste vertoning en koop uw tickets (maximum in bubbel van 5):\n\nTIP: koop eerst uw Filmhuis-seizoenkaart HIER\, u geniet dan van 2 euro korting per film!\n\nDINSDAG 29 SEPTEMBER om 20u45.\n\nDINSDAG 6 OKTOBER om 18u30.\nTickets voor deze vertoning HIER!\n\nMAANDAG 2 NOVEMBER om 18u30.\nTickets voor deze vertoning HIER!\n\nMAANDAG 9 NOVEMBER om 20u50.\nTickets voor deze vertoning HIER!\n\nIn het kader van het Holebifilmfestival.\n\nALLE INFO\, TRAILER & RECENSIES HIER!\n\n
URL:https://www.filmhuismechelen.be/vertoning/ete-85/
CATEGORIES:De dinsdagen van het Filmhuis,Programma
END:VEVENT
END:VCALENDAR