BEGIN:VCALENDAR
VERSION:2.0
PRODID:-//Filmhuis Mechelen - ECPv4.3.1.1//NONSGML v1.0//EN
CALSCALE:GREGORIAN
METHOD:PUBLISH
X-WR-CALNAME:Filmhuis Mechelen
X-ORIGINAL-URL:https://www.filmhuismechelen.be
X-WR-CALDESC:Events for Filmhuis Mechelen
BEGIN:VEVENT
DTSTART;TZID=UTC+2:20201102T183000
DTEND;TZID=UTC+2:20201102T183000
DTSTAMP:20260421T003019
CREATED:20200829T173541Z
LAST-MODIFIED:20201020T203739Z
UID:17689-1604341800-1604341800@www.filmhuismechelen.be
SUMMARY:ETE 85 - vertoning verplaatst
DESCRIPTION:UPDATE: we bekijken momenteel of deze vertoning gezien de nieuwe coronamaatregelen nog kan doorgaan.\n\nIn het kader van het Holebifilmfestival.\n\nALLE INFO\, TRAILER & RECENSIES HIER!\n\n\n\n \n\nKijkwijzer:\n\n\n \n\n 
URL:https://www.filmhuismechelen.be/vertoning/ete-85-2/
CATEGORIES:Programma
END:VEVENT
END:VCALENDAR