BEGIN:VCALENDAR
VERSION:2.0
PRODID:-//Filmhuis Mechelen - ECPv4.3.1.1//NONSGML v1.0//EN
CALSCALE:GREGORIAN
METHOD:PUBLISH
X-WR-CALNAME:Filmhuis Mechelen
X-ORIGINAL-URL:https://www.filmhuismechelen.be
X-WR-CALDESC:Events for Filmhuis Mechelen
BEGIN:VEVENT
DTSTART;TZID=UTC+2:20180925T183000
DTEND;TZID=UTC+2:20180925T183000
DTSTAMP:20260423T085238
CREATED:20180829T090647Z
LAST-MODIFIED:20180918T123745Z
UID:10195-1537900200-1537900200@www.filmhuismechelen.be
SUMMARY:ENGEL
DESCRIPTION:\nVertoningen op:\nDINSDAG 25 SEPTEMBER om 18u30.\nDINSDAG 25 SEPTEMBER om 20u30.\nMAANDAG 1 OKTOBER om 18u30.\n\n\nAlle info\, trailer en recensies vindt u HIER!\n\n
URL:https://www.filmhuismechelen.be/vertoning/engel/
CATEGORIES:De dinsdagen van het Filmhuis,Programma
END:VEVENT
END:VCALENDAR