BEGIN:VCALENDAR
VERSION:2.0
PRODID:-//Filmhuis Mechelen - ECPv4.3.1.1//NONSGML v1.0//EN
CALSCALE:GREGORIAN
METHOD:PUBLISH
X-WR-CALNAME:Filmhuis Mechelen
X-ORIGINAL-URL:https://www.filmhuismechelen.be
X-WR-CALDESC:Events for Filmhuis Mechelen
BEGIN:VEVENT
DTSTART;TZID=UTC+2:20181002T203000
DTEND;TZID=UTC+2:20181002T203000
DTSTAMP:20260423T103201
CREATED:20180904T203617Z
LAST-MODIFIED:20180905T130649Z
UID:10306-1538512200-1538512200@www.filmhuismechelen.be
SUMMARY:EN GUERRE
DESCRIPTION:Vertoningen:\nDINSDAG 2 OKTOBER om 18u30.\nDINSDAG 2 OKTOBER om 20u30.\n\nAlle info\, trailer en recensies vindt u HIER!\n\nEen organisatie i.s.m. het Sociaal Centrum.\n\n
URL:https://www.filmhuismechelen.be/vertoning/en-guerre-2/
CATEGORIES:De dinsdagen van het Filmhuis,Programma
END:VEVENT
END:VCALENDAR