BEGIN:VCALENDAR
VERSION:2.0
PRODID:-//Filmhuis Mechelen - ECPv4.3.1.1//NONSGML v1.0//EN
CALSCALE:GREGORIAN
METHOD:PUBLISH
X-WR-CALNAME:Filmhuis Mechelen
X-ORIGINAL-URL:https://www.filmhuismechelen.be
X-WR-CALDESC:Events for Filmhuis Mechelen
BEGIN:VEVENT
DTSTART;TZID=UTC+2:20201103T183000
DTEND;TZID=UTC+2:20201103T183000
DTSTAMP:20260421T002806
CREATED:20200907T181219Z
LAST-MODIFIED:20201020T202447Z
UID:17960-1604428200-1604428200@www.filmhuismechelen.be
SUMMARY:EMA - vertoning verplaatst
DESCRIPTION:UPDATE: door de nieuwe coronamaatregelen hebben we beslist onze vertoningen voorlopig op te schorten.\nDeze film blijft op ons programma\, maar wordt naar een latere datum verschoven!\n\nGekochte tickets worden uiteraard terugbetaald.\n\nALLE INFO\, TRAILER & RECENSIES HIER!\n\nIn het kader van het Holebifilmfestival!\n\n
URL:https://www.filmhuismechelen.be/vertoning/ema-3/
CATEGORIES:De dinsdagen van het Filmhuis,Programma
END:VEVENT
END:VCALENDAR