BEGIN:VCALENDAR
VERSION:2.0
PRODID:-//Filmhuis Mechelen - ECPv4.3.1.1//NONSGML v1.0//EN
CALSCALE:GREGORIAN
METHOD:PUBLISH
X-WR-CALNAME:Filmhuis Mechelen
X-ORIGINAL-URL:https://www.filmhuismechelen.be
X-WR-CALDESC:Events for Filmhuis Mechelen
BEGIN:VEVENT
DTSTART;TZID=UTC+2:20200913T220000
DTEND;TZID=UTC+2:20200913T220000
DTSTAMP:20260421T062750
CREATED:20200831T084619Z
LAST-MODIFIED:20200902T133834Z
UID:17748-1600034400-1600034400@www.filmhuismechelen.be
SUMMARY:EEFJE DE VISSER: BITTERZOET (openluchtcinema)
DESCRIPTION:ZONDAG 13 SEPTEMBER\n\nOPGELET: we organiseren twee gratis vertoningen\, maar vanwege de coronamaatregelen zijn de plaatsen beperkt en is reservatie (per bubbel) vooraf verplicht!\n\n\nVertoning 1: na zonsondergang (+/- 20u15) - deze vertoning is ondertussen helaas helemaal volzet!\n\nVertoning 2: om 22u00 – Bestel uw gratis ticket(s) voor deze vertoning HIER!\n\n \n\nEen vertoning in het kader van de Predikheerlijke Zomer!\n\nLokatie: binnentuin van Het Predikheren\, Goswin de Stassartstraat 88.\n\n\n\n 
URL:https://www.filmhuismechelen.be/vertoning/eefje-de-visser-bitterzoet-openluchtcinema/
LOCATION:Goswin de Stassartstraat 88\, Mechelen\, 2800\, België
CATEGORIES:Externe vertoningen,Openluchtvertoning,Programma,Zomerfilms
END:VEVENT
END:VCALENDAR