BEGIN:VCALENDAR
VERSION:2.0
PRODID:-//Filmhuis Mechelen - ECPv4.3.1.1//NONSGML v1.0//EN
CALSCALE:GREGORIAN
METHOD:PUBLISH
X-WR-CALNAME:Filmhuis Mechelen
X-ORIGINAL-URL:https://www.filmhuismechelen.be
X-WR-CALDESC:Events for Filmhuis Mechelen
BEGIN:VEVENT
DTSTART;TZID=UTC+2:20200107T183000
DTEND;TZID=UTC+2:20200107T183000
DTSTAMP:20260420T203919
CREATED:20191205T141422Z
LAST-MODIFIED:20191215T140153Z
UID:13222-1578421800-1578421800@www.filmhuismechelen.be
SUMMARY:ECHO
DESCRIPTION:\n\nVertoningen:\nDINSDAG 7 JANUARI om 18u30.\nMAANDAG 13 JANUARI om 18u30.\nMAANDAG 20 JANUARI om 18u30.\n\nALLE INFO\, TRAILER & RECENSIES HIER!\n\n
URL:https://www.filmhuismechelen.be/vertoning/echo/
CATEGORIES:De dinsdagen van het Filmhuis,Programma
END:VEVENT
END:VCALENDAR