BEGIN:VCALENDAR
VERSION:2.0
PRODID:-//Filmhuis Mechelen - ECPv4.3.1.1//NONSGML v1.0//EN
CALSCALE:GREGORIAN
METHOD:PUBLISH
X-WR-CALNAME:Filmhuis Mechelen
X-ORIGINAL-URL:https://www.filmhuismechelen.be
X-WR-CALDESC:Events for Filmhuis Mechelen
BEGIN:VEVENT
DTSTART;TZID=UTC+2:20180416T203000
DTEND;TZID=UTC+2:20180416T203000
DTSTAMP:20260425T155436
CREATED:20180226T150400Z
LAST-MODIFIED:20180226T150400Z
UID:9533-1523910600-1523910600@www.filmhuismechelen.be
SUMMARY:EARTH: EEN ONVERGETELIJKE DAG
DESCRIPTION:Vertoning om 20u30.\n\nEen organisatie i.s.m. Natuurpunt.\n\n\n
URL:https://www.filmhuismechelen.be/vertoning/earth-een-onvergetelijke-dag/
CATEGORIES:Documentaire,Programma
END:VEVENT
END:VCALENDAR