BEGIN:VCALENDAR
VERSION:2.0
PRODID:-//Filmhuis Mechelen - ECPv4.3.1.1//NONSGML v1.0//EN
CALSCALE:GREGORIAN
METHOD:PUBLISH
X-WR-CALNAME:Filmhuis Mechelen
X-ORIGINAL-URL:https://www.filmhuismechelen.be
X-WR-CALDESC:Events for Filmhuis Mechelen
BEGIN:VEVENT
DTSTART;TZID=UTC+2:20210831T203000
DTEND;TZID=UTC+2:20210831T203000
DTSTAMP:20260422T144630
CREATED:20210625T154024Z
LAST-MODIFIED:20210818T095218Z
UID:22342-1630441800-1630441800@www.filmhuismechelen.be
SUMMARY:DRUNK 
DESCRIPTION:Vertoningen op:\nDINSDAG 31 AUGUSTUS om 20u30 - tickets HIER!\n\nDINSDAG 14 SEPTEMBER om 18u30 - tickets HIER!\n\nMAANDAG 20 SEPTEMBER om 18u30 - tickets HIER!\n\nTIP: koop eerst uw SEIZOENSKAART en bespaar zo 2 euro per vertoning!\n\nINFO\, TRAILER & RECENSIES HIER!\n\n
URL:https://www.filmhuismechelen.be/vertoning/drunk/
LOCATION:Minderbroedersgang 5\, Mechelen\, 2800
CATEGORIES:De dinsdagen van het Filmhuis,Programma
END:VEVENT
END:VCALENDAR