BEGIN:VCALENDAR
VERSION:2.0
PRODID:-//Filmhuis Mechelen - ECPv4.3.1.1//NONSGML v1.0//EN
CALSCALE:GREGORIAN
METHOD:PUBLISH
X-WR-CALNAME:Filmhuis Mechelen
X-ORIGINAL-URL:https://www.filmhuismechelen.be
X-WR-CALDESC:Events for Filmhuis Mechelen
BEGIN:VEVENT
DTSTART;TZID=UTC+2:20220523T200000
DTEND;TZID=UTC+2:20220523T200000
DTSTAMP:20260421T173910
CREATED:20220511T153912Z
LAST-MODIFIED:20220518T221002Z
UID:25579-1653336000-1653336000@www.filmhuismechelen.be
SUMMARY:DRIVE MY CAR
DESCRIPTION:Vertoning:\nMAANDAG 23 MEI om 20u00\n\nTICKETS voor deze vertoning HIER!\n\nTIP: koop eerst een SEIZOENSKAART\, en bespaar zo 2 euro per ticket.\n\nAlle info\, trailer & recensies HIER!\n\n
URL:https://www.filmhuismechelen.be/vertoning/drive-my-car-2/
LOCATION:Minderbroedersgang 5\, Mechelen\, 2800
CATEGORIES:Programma
END:VEVENT
END:VCALENDAR