BEGIN:VCALENDAR
VERSION:2.0
PRODID:-//Filmhuis Mechelen - ECPv4.3.1.1//NONSGML v1.0//EN
CALSCALE:GREGORIAN
METHOD:PUBLISH
X-WR-CALNAME:Filmhuis Mechelen
X-ORIGINAL-URL:https://www.filmhuismechelen.be
X-WR-CALDESC:Events for Filmhuis Mechelen
BEGIN:VEVENT
DTSTART;TZID=UTC+2:20180528T203000
DTEND;TZID=UTC+2:20180528T203000
DTSTAMP:20260425T210855
CREATED:20180408T140719Z
LAST-MODIFIED:20180408T141118Z
UID:9744-1527539400-1527539400@www.filmhuismechelen.be
SUMMARY:DOOF KIND
DESCRIPTION:Vertoning om 20u30.\n\nEen vertoning i.s.m. de opleiding Vlaamse gebarentaal van CVO-Crescendo.\n\n
URL:https://www.filmhuismechelen.be/vertoning/doof-kind/
CATEGORIES:Documentaire,Programma
END:VEVENT
END:VCALENDAR