BEGIN:VCALENDAR
VERSION:2.0
PRODID:-//Filmhuis Mechelen - ECPv4.3.1.1//NONSGML v1.0//EN
CALSCALE:GREGORIAN
METHOD:PUBLISH
X-WR-CALNAME:Filmhuis Mechelen
X-ORIGINAL-URL:https://www.filmhuismechelen.be
X-WR-CALDESC:Events for Filmhuis Mechelen
BEGIN:VEVENT
DTSTART;TZID=UTC+2:20190415T203000
DTEND;TZID=UTC+2:20190415T203000
DTSTAMP:20260421T145639
CREATED:20190307T185247Z
LAST-MODIFIED:20190409T164829Z
UID:11591-1555360200-1555360200@www.filmhuismechelen.be
SUMMARY:DONBASS
DESCRIPTION:Vertoning:\nMAANDAG 15 APRIL om 20u30.\n\nAlle info\, trailer en recensies HIER!\n\n
URL:https://www.filmhuismechelen.be/vertoning/donbass/
CATEGORIES:Programma
END:VEVENT
END:VCALENDAR