BEGIN:VCALENDAR
VERSION:2.0
PRODID:-//Filmhuis Mechelen - ECPv4.3.1.1//NONSGML v1.0//EN
CALSCALE:GREGORIAN
METHOD:PUBLISH
X-WR-CALNAME:Filmhuis Mechelen
X-ORIGINAL-URL:https://www.filmhuismechelen.be
X-WR-CALDESC:Events for Filmhuis Mechelen
BEGIN:VEVENT
DTSTART;TZID=UTC+2:20190409T183000
DTEND;TZID=UTC+2:20190409T183000
DTSTAMP:20260421T131342
CREATED:20190307T185442Z
LAST-MODIFIED:20190315T080821Z
UID:11594-1554834600-1554834600@www.filmhuismechelen.be
SUMMARY:DONBASS
DESCRIPTION:Vertoningen:\nDINSDAG 9 APRIL om 18u30.\nMAANDAG 15 APRIL om 20u30.\n\nAlle info\, trailer en recensies HIER!\n\n
URL:https://www.filmhuismechelen.be/vertoning/donbass-2/
CATEGORIES:De dinsdagen van het Filmhuis,Programma
END:VEVENT
END:VCALENDAR