BEGIN:VCALENDAR
VERSION:2.0
PRODID:-//Filmhuis Mechelen - ECPv4.3.1.1//NONSGML v1.0//EN
CALSCALE:GREGORIAN
METHOD:PUBLISH
X-WR-CALNAME:Filmhuis Mechelen
X-ORIGINAL-URL:https://www.filmhuismechelen.be
X-WR-CALDESC:Events for Filmhuis Mechelen
BEGIN:VEVENT
DTSTART;TZID=UTC+2:20191008T203000
DTEND;TZID=UTC+2:20191008T203000
DTSTAMP:20260420T213037
CREATED:20190823T092304Z
LAST-MODIFIED:20191007T202038Z
UID:12431-1570566600-1570566600@www.filmhuismechelen.be
SUMMARY:DOLOR Y GLORIA
DESCRIPTION:Vertoningen:\nDINSDAG 8 OKTOBER om 18u30.\nDINSDAG 8 OKTOBER om 20u30.\n\nALLE INFO\, TRAILER & RECENSIES HIER!\n\n
URL:https://www.filmhuismechelen.be/vertoning/dolor-y-gloria-3/
CATEGORIES:De dinsdagen van het Filmhuis,Programma
END:VEVENT
END:VCALENDAR