BEGIN:VCALENDAR
VERSION:2.0
PRODID:-//Filmhuis Mechelen - ECPv4.3.1.1//NONSGML v1.0//EN
CALSCALE:GREGORIAN
METHOD:PUBLISH
X-WR-CALNAME:Filmhuis Mechelen
X-ORIGINAL-URL:https://www.filmhuismechelen.be
X-WR-CALDESC:Events for Filmhuis Mechelen
BEGIN:VEVENT
DTSTART;TZID=UTC+2:20181023T203000
DTEND;TZID=UTC+2:20181023T203000
DTSTAMP:20260422T031603
CREATED:20180829T155823Z
LAST-MODIFIED:20180829T155823Z
UID:10219-1540326600-1540326600@www.filmhuismechelen.be
SUMMARY:DOGMAN
DESCRIPTION:Vertoningen op:\nDINSDAG 23 OKTOBER om 18u30.\nDINSDAG 23 OKTOBER om 20u30.\nMAANDAG 29 OKTOBER om 18u30.\n\n
URL:https://www.filmhuismechelen.be/vertoning/dogman-2/
CATEGORIES:De dinsdagen van het Filmhuis,Programma
END:VEVENT
END:VCALENDAR