BEGIN:VCALENDAR
VERSION:2.0
PRODID:-//Filmhuis Mechelen - ECPv4.3.1.1//NONSGML v1.0//EN
CALSCALE:GREGORIAN
METHOD:PUBLISH
X-WR-CALNAME:Filmhuis Mechelen
X-ORIGINAL-URL:https://www.filmhuismechelen.be
X-WR-CALDESC:Events for Filmhuis Mechelen
BEGIN:VEVENT
DTSTART;TZID=UTC+2:20170530T203000
DTEND;TZID=UTC+2:20170530T203000
DTSTAMP:20260426T040019
CREATED:20170428T230025Z
LAST-MODIFIED:20170530T142646Z
UID:7645-1496176200-1496176200@www.filmhuismechelen.be
SUMMARY:DJANGO
DESCRIPTION:TWEE VERTONINGEN!\nVertoning 1 om 18u30\nVertoning 2 om 20u30\n\nEen organisatie i.s.m. Kazerne Dossin\n\n
URL:https://www.filmhuismechelen.be/vertoning/django-2/
CATEGORIES:De dinsdagen van het Filmhuis,Programma
END:VEVENT
END:VCALENDAR