BEGIN:VCALENDAR
VERSION:2.0
PRODID:-//Filmhuis Mechelen - ECPv4.3.1.1//NONSGML v1.0//EN
CALSCALE:GREGORIAN
METHOD:PUBLISH
X-WR-CALNAME:Filmhuis Mechelen
X-ORIGINAL-URL:https://www.filmhuismechelen.be
X-WR-CALDESC:Events for Filmhuis Mechelen
BEGIN:VEVENT
DTSTART;TZID=UTC+2:20191001T183000
DTEND;TZID=UTC+2:20191001T183000
DTSTAMP:20260420T175821
CREATED:20190820T163056Z
LAST-MODIFIED:20190823T203411Z
UID:12353-1569954600-1569954600@www.filmhuismechelen.be
SUMMARY:DIRTY GOD
DESCRIPTION:\nVertoningen:\nDINSDAG 24 SEPTEMBER om 20u30.\nDINSDAG 1 OKTOBER om 18u30.\n\nALLE INFO & TRAILER HIER!\n\n\n\n
URL:https://www.filmhuismechelen.be/vertoning/dirty-god-2/
CATEGORIES:De dinsdagen van het Filmhuis,Programma
END:VEVENT
END:VCALENDAR