BEGIN:VCALENDAR
VERSION:2.0
PRODID:-//Filmhuis Mechelen - ECPv4.3.1.1//NONSGML v1.0//EN
CALSCALE:GREGORIAN
METHOD:PUBLISH
X-WR-CALNAME:Filmhuis Mechelen
X-ORIGINAL-URL:https://www.filmhuismechelen.be
X-WR-CALDESC:Events for Filmhuis Mechelen
BEGIN:VEVENT
DTSTART;TZID=UTC+2:20170925T203000
DTEND;TZID=UTC+2:20170925T203000
DTSTAMP:20260425T192240
CREATED:20170623T172121Z
LAST-MODIFIED:20170623T172121Z
UID:7904-1506371400-1506371400@www.filmhuismechelen.be
SUMMARY:DEREK JARMAN'S BLUE
DESCRIPTION:Vertoning om 20u30.\n\nVoor deze vertoning zijn uitzonderlijk TICKETS IN VOORVERKOOP BESCHIKBAAR\, via DEZE LINK.\n\nEen organisatie i.s.m. Musica Divina / het Festival van Vlaanderen.\n\n\n
URL:https://www.filmhuismechelen.be/vertoning/derek-jarmans-blue/
END:VEVENT
END:VCALENDAR