BEGIN:VCALENDAR
VERSION:2.0
PRODID:-//Filmhuis Mechelen - ECPv4.3.1.1//NONSGML v1.0//EN
CALSCALE:GREGORIAN
METHOD:PUBLISH
X-WR-CALNAME:Filmhuis Mechelen
X-ORIGINAL-URL:https://www.filmhuismechelen.be
X-WR-CALDESC:Events for Filmhuis Mechelen
BEGIN:VEVENT
DTSTART;TZID=UTC+2:20191029T204000
DTEND;TZID=UTC+2:20191029T204000
DTSTAMP:20260421T041011
CREATED:20191007T132915Z
LAST-MODIFIED:20191009T185717Z
UID:12761-1572381600-1572381600@www.filmhuismechelen.be
SUMMARY:DER GOLDENE HANDSCHUH
DESCRIPTION:Vertoning:\nDINSDAG 29 OKTOBER om 20u40.\n\nALLE INFO\, TRAILER & RECENSIES HIER!\n\n
URL:https://www.filmhuismechelen.be/vertoning/der-goldene-handschuh/
CATEGORIES:De dinsdagen van het Filmhuis,Programma
END:VEVENT
END:VCALENDAR