BEGIN:VCALENDAR
VERSION:2.0
PRODID:-//Filmhuis Mechelen - ECPv4.3.1.1//NONSGML v1.0//EN
CALSCALE:GREGORIAN
METHOD:PUBLISH
X-WR-CALNAME:Filmhuis Mechelen
X-ORIGINAL-URL:https://www.filmhuismechelen.be
X-WR-CALDESC:Events for Filmhuis Mechelen
BEGIN:VEVENT
DTSTART;TZID=UTC+2:20211108T183000
DTEND;TZID=UTC+2:20211108T183000
DTSTAMP:20260422T234727
CREATED:20211020T222602Z
LAST-MODIFIED:20211101T103400Z
UID:23389-1636396200-1636396200@www.filmhuismechelen.be
SUMMARY:DEAR COMRADES!
DESCRIPTION:OPGELET: de coronaregels zijn opnieuw veranderd!\nVanaf 1 november werken we met het COVID SAFE TICKET\n\nVertoningen:\nMAANDAG 8 NOVEMBER om 18u30 - tickets voor deze vertoning HIER!\nDINSDAG 9 NOVEMBER om 20u30 - tickets voor deze vertoning HIER!\n\nTIP: koop eerst uw SEIZOENSKAART en bespaar zo 2 euro per vertoning!\n\nALLE INFO & TRAILER HIER!\n\n\n
URL:https://www.filmhuismechelen.be/vertoning/dear-comrades-2/
LOCATION:Minderbroedersgang 5\, Mechelen\, 2800
CATEGORIES:De dinsdagen van het Filmhuis,Programma
END:VEVENT
END:VCALENDAR