BEGIN:VCALENDAR
VERSION:2.0
PRODID:-//Filmhuis Mechelen - ECPv4.3.1.1//NONSGML v1.0//EN
CALSCALE:GREGORIAN
METHOD:PUBLISH
X-WR-CALNAME:Filmhuis Mechelen
X-ORIGINAL-URL:https://www.filmhuismechelen.be
X-WR-CALDESC:Events for Filmhuis Mechelen
BEGIN:VEVENT
DTSTART;TZID=UTC+2:20180220T203000
DTEND;TZID=UTC+2:20180220T203000
DTSTAMP:20260425T153954
CREATED:20180119T160216Z
LAST-MODIFIED:20180119T160216Z
UID:9366-1519158600-1519158600@www.filmhuismechelen.be
SUMMARY:DAPHNE
DESCRIPTION:DRIE VERTONINGEN!\nDINSDAG 20 FEBRUARI om 18u30.\nDINSDAG 20 FEBRUARI om 20u30.\nMAANDAG 26 FEBRUARI om 18u30.\n\n\n
URL:https://www.filmhuismechelen.be/vertoning/daphne/
CATEGORIES:De dinsdagen van het Filmhuis,Programma
END:VEVENT
END:VCALENDAR