BEGIN:VCALENDAR
VERSION:2.0
PRODID:-//Filmhuis Mechelen - ECPv4.3.1.1//NONSGML v1.0//EN
CALSCALE:GREGORIAN
METHOD:PUBLISH
X-WR-CALNAME:Filmhuis Mechelen
X-ORIGINAL-URL:https://www.filmhuismechelen.be
X-WR-CALDESC:Events for Filmhuis Mechelen
BEGIN:VEVENT
DTSTART;TZID=UTC+2:20211130T203000
DTEND;TZID=UTC+2:20211130T203000
DTSTAMP:20260422T220320
CREATED:20211021T204550Z
LAST-MODIFIED:20211026T122528Z
UID:23481-1638304200-1638304200@www.filmhuismechelen.be
SUMMARY:CRAZY MONEY
DESCRIPTION:Vertoning:\nDINSDAG 30 NOVEMBER om 20u30\n\nONLINE-TICKETS koopt u HIER!\n\nTIP: koop eerst uw SEIZOENSKAART en bespaar zo 2 euro per vertoning!\n\nVertoning in aanwezigheid van regisseur Steven Janssens.\n\nALLE INFO & TRAILER HIER!\n\n\n\n 
URL:https://www.filmhuismechelen.be/vertoning/crazy-money/
LOCATION:Minderbroedersgang 5\, Mechelen\, 2800
CATEGORIES:Documentaire,Programma
END:VEVENT
END:VCALENDAR