BEGIN:VCALENDAR
VERSION:2.0
PRODID:-//Filmhuis Mechelen - ECPv4.3.1.1//NONSGML v1.0//EN
CALSCALE:GREGORIAN
METHOD:PUBLISH
X-WR-CALNAME:Filmhuis Mechelen
X-ORIGINAL-URL:https://www.filmhuismechelen.be
X-WR-CALDESC:Events for Filmhuis Mechelen
BEGIN:VEVENT
DTSTART;TZID=UTC+2:20210913T203000
DTEND;TZID=UTC+2:20210913T203000
DTSTAMP:20260422T162449
CREATED:20210729T181238Z
LAST-MODIFIED:20210823T182026Z
UID:22635-1631565000-1631565000@www.filmhuismechelen.be
SUMMARY:CORPUS CHRISTI
DESCRIPTION:Vertoning:\nMAANDAG 13 SEPTEMBER om 20u30 - TICKETS voor deze vertoning HIER!\n\nALLE INFO\, TRAILER & RECENSIES HIER!\n\n\n\nEen organisatie i.s.m. CCV en de Mechelse Parochies.\n\nDe vertoning wordt voor de belangstellenden vanaf 20u15 ingeleid door Leo De Weerdt sj.\n\n\n
URL:https://www.filmhuismechelen.be/vertoning/corpus-christi-4/
LOCATION:Minderbroedersgang 5\, Mechelen\, 2800
CATEGORIES:Programma
END:VEVENT
END:VCALENDAR