BEGIN:VCALENDAR
VERSION:2.0
PRODID:-//Filmhuis Mechelen - ECPv4.3.1.1//NONSGML v1.0//EN
CALSCALE:GREGORIAN
METHOD:PUBLISH
X-WR-CALNAME:Filmhuis Mechelen
X-ORIGINAL-URL:https://www.filmhuismechelen.be
X-WR-CALDESC:Events for Filmhuis Mechelen
BEGIN:VEVENT
DTSTART;TZID=UTC+2:20211130T183000
DTEND;TZID=UTC+2:20211130T183000
DTSTAMP:20260422T220320
CREATED:20211021T092417Z
LAST-MODIFIED:20211129T174426Z
UID:23416-1638297000-1638297000@www.filmhuismechelen.be
SUMMARY:COOL ABDOUL
DESCRIPTION:Vertoningen:\nDINSDAG 30 NOVEMBER om 18u30 - tickets voor deze vertoning HIER!\n\nTIP: koop eerst uw SEIZOENSKAART en bespaar zo 2 euro per vertoning!\n\nINFO\, TRAILER & RECENSIES HIER!\n\n
URL:https://www.filmhuismechelen.be/vertoning/cool-abdoul-2/
LOCATION:Minderbroedersgang 5\, Mechelen\, 2800
CATEGORIES:De dinsdagen van het Filmhuis,Programma
END:VEVENT
END:VCALENDAR