BEGIN:VCALENDAR
VERSION:2.0
PRODID:-//Filmhuis Mechelen - ECPv4.3.1.1//NONSGML v1.0//EN
CALSCALE:GREGORIAN
METHOD:PUBLISH
X-WR-CALNAME:Filmhuis Mechelen
X-ORIGINAL-URL:https://www.filmhuismechelen.be
X-WR-CALDESC:Events for Filmhuis Mechelen
BEGIN:VEVENT
DTSTART;TZID=UTC+1:20220214T183000
DTEND;TZID=UTC+1:20220214T183000
DTSTAMP:20260421T073802
CREATED:20220126T193321Z
LAST-MODIFIED:20220214T163800Z
UID:24356-1644863400-1644863400@www.filmhuismechelen.be
SUMMARY:COMPARTMENT No. 6
DESCRIPTION:Vertoningen:\n- MAANDAG 14 FEBRUARI om 18u30 - TICKETS voor deze vertoning HIER!\n- DINSDAG 15 FEBRUARI om 20u45 -TICKETS voor deze vertoning HIER!\n- DINSDAG 22 FEBRUARI om 18u30 -  TICKETS voor deze vertoning HIER!\n\nTIP: koop eerst een SEIZOENSKAART\, en bespaar zo 2 euro per ticket.\n\nINFO & TRAILER HIER!\n\n
URL:https://www.filmhuismechelen.be/vertoning/compartment-no-6/
LOCATION:Minderbroedersgang 5\, Mechelen\, 2800
CATEGORIES:Programma
END:VEVENT
END:VCALENDAR