BEGIN:VCALENDAR
VERSION:2.0
PRODID:-//Filmhuis Mechelen - ECPv4.3.1.1//NONSGML v1.0//EN
CALSCALE:GREGORIAN
METHOD:PUBLISH
X-WR-CALNAME:Filmhuis Mechelen
X-ORIGINAL-URL:https://www.filmhuismechelen.be
X-WR-CALDESC:Events for Filmhuis Mechelen
BEGIN:VEVENT
DTSTART;TZID=UTC+2:20181127T183000
DTEND;TZID=UTC+2:20181127T183000
DTSTAMP:20260423T102802
CREATED:20181113T084430Z
LAST-MODIFIED:20181120T204632Z
UID:10740-1543343400-1543343400@www.filmhuismechelen.be
SUMMARY:COLD WAR
DESCRIPTION:Vertoningen:\nDINSDAG 27 NOVEMBER om 18u30.\n\nMAANDAG 3 DECEMBER om 18u30.\n\n
URL:https://www.filmhuismechelen.be/vertoning/cold-war-4/
CATEGORIES:De dinsdagen van het Filmhuis,Programma
END:VEVENT
END:VCALENDAR