BEGIN:VCALENDAR
VERSION:2.0
PRODID:-//Filmhuis Mechelen - ECPv4.3.1.1//NONSGML v1.0//EN
CALSCALE:GREGORIAN
METHOD:PUBLISH
X-WR-CALNAME:Filmhuis Mechelen
X-ORIGINAL-URL:https://www.filmhuismechelen.be
X-WR-CALDESC:Events for Filmhuis Mechelen
BEGIN:VEVENT
DTSTART;TZID=UTC+2:20181203T183000
DTEND;TZID=UTC+2:20181203T183000
DTSTAMP:20260422T013641
CREATED:20181031T151537Z
LAST-MODIFIED:20181127T180310Z
UID:10632-1543861800-1543861800@www.filmhuismechelen.be
SUMMARY:COLD WAR
DESCRIPTION:Vertoning:\nMAANDAG 3 DECEMBER om 18u30. \n\n
URL:https://www.filmhuismechelen.be/vertoning/cold-war-3/
CATEGORIES:Programma
END:VEVENT
END:VCALENDAR