BEGIN:VCALENDAR
VERSION:2.0
PRODID:-//Filmhuis Mechelen - ECPv4.3.1.1//NONSGML v1.0//EN
CALSCALE:GREGORIAN
METHOD:PUBLISH
X-WR-CALNAME:Filmhuis Mechelen
X-ORIGINAL-URL:https://www.filmhuismechelen.be
X-WR-CALDESC:Events for Filmhuis Mechelen
BEGIN:VEVENT
DTSTART;TZID=UTC+2:20181120T203000
DTEND;TZID=UTC+2:20181120T203000
DTSTAMP:20260422T031440
CREATED:20181010T222833Z
LAST-MODIFIED:20181113T084213Z
UID:10549-1542745800-1542745800@www.filmhuismechelen.be
SUMMARY:COLD WAR
DESCRIPTION:Vertoningen:\nDINSDAG 20 NOVEMBER om 18u30.\nDINSDAG 20 NOVEMBER om 20u30.\n\nDINSDAG 27 NOVEMBER om 18u30.\n\nMAANDAG 3 DECEMBER om 18u30. \n\nAlle info\, trailer en recensies vindt u HIER!\n\n\n
URL:https://www.filmhuismechelen.be/vertoning/cold-war-2/
CATEGORIES:De dinsdagen van het Filmhuis,Programma
END:VEVENT
END:VCALENDAR