BEGIN:VCALENDAR
VERSION:2.0
PRODID:-//Filmhuis Mechelen - ECPv4.3.1.1//NONSGML v1.0//EN
CALSCALE:GREGORIAN
METHOD:PUBLISH
X-WR-CALNAME:Filmhuis Mechelen
X-ORIGINAL-URL:https://www.filmhuismechelen.be
X-WR-CALDESC:Events for Filmhuis Mechelen
BEGIN:VEVENT
DTSTART;TZID=UTC+2:20190409T203000
DTEND;TZID=UTC+2:20190409T203000
DTSTAMP:20260421T145536
CREATED:20190312T111506Z
LAST-MODIFIED:20190329T140456Z
UID:11663-1554841800-1554841800@www.filmhuismechelen.be
SUMMARY:C'EST CA L'AMOUR
DESCRIPTION:Vertoningen:\nDINSDAG 9 APRIL om 20u30.\nMAANDAG 15 APRIL om 18u30.\nDINSDAG 16 APRIL om 18u30.\n\nAlle info\, trailer en recensies HIER!\n\n
URL:https://www.filmhuismechelen.be/vertoning/cest-ca-lamour/
CATEGORIES:Programma
END:VEVENT
END:VCALENDAR