BEGIN:VCALENDAR
VERSION:2.0
PRODID:-//Filmhuis Mechelen - ECPv4.3.1.1//NONSGML v1.0//EN
CALSCALE:GREGORIAN
METHOD:PUBLISH
X-WR-CALNAME:Filmhuis Mechelen
X-ORIGINAL-URL:https://www.filmhuismechelen.be
X-WR-CALDESC:Events for Filmhuis Mechelen
BEGIN:VEVENT
DTSTART;TZID=UTC+2:20190416T183000
DTEND;TZID=UTC+2:20190416T183000
DTSTAMP:20260421T162507
CREATED:20190312T111957Z
LAST-MODIFIED:20190409T185631Z
UID:11668-1555439400-1555439400@www.filmhuismechelen.be
SUMMARY:C'EST CA L'AMOUR
DESCRIPTION:Vertoningen:\nMAANDAG 15 APRIL om 18u30.\nDINSDAG 16 APRIL om 18u30.\n\nAlle info\, trailer en recensies HIER!\n\n
URL:https://www.filmhuismechelen.be/vertoning/cest-ca-lamour-3/
CATEGORIES:De dinsdagen van het Filmhuis,Programma
END:VEVENT
END:VCALENDAR