BEGIN:VCALENDAR
VERSION:2.0
PRODID:-//Filmhuis Mechelen - ECPv4.3.1.1//NONSGML v1.0//EN
CALSCALE:GREGORIAN
METHOD:PUBLISH
X-WR-CALNAME:Filmhuis Mechelen
X-ORIGINAL-URL:https://www.filmhuismechelen.be
X-WR-CALDESC:Events for Filmhuis Mechelen
BEGIN:VEVENT
DTSTART;TZID=UTC+2:20190226T203000
DTEND;TZID=UTC+2:20190226T203000
DTSTAMP:20260421T131116
CREATED:20190130T144015Z
LAST-MODIFIED:20190130T144015Z
UID:11341-1551213000-1551213000@www.filmhuismechelen.be
SUMMARY:CAPHARNAÜM
DESCRIPTION:Vertoning:\nDINSDAG 26 FEBRÜARI om 20ü30.\n\n
URL:https://www.filmhuismechelen.be/vertoning/capharnaum/
CATEGORIES:De dinsdagen van het Filmhuis,Programma
END:VEVENT
END:VCALENDAR