BEGIN:VCALENDAR
VERSION:2.0
PRODID:-//Filmhuis Mechelen - ECPv4.3.1.1//NONSGML v1.0//EN
CALSCALE:GREGORIAN
METHOD:PUBLISH
X-WR-CALNAME:Filmhuis Mechelen
X-ORIGINAL-URL:https://www.filmhuismechelen.be
X-WR-CALDESC:Events for Filmhuis Mechelen
BEGIN:VEVENT
DTSTART;TZID=UTC+2:20181029T203000
DTEND;TZID=UTC+2:20181029T203000
DTSTAMP:20260421T234358
CREATED:20181009T123354Z
LAST-MODIFIED:20181009T123425Z
UID:10487-1540845000-1540845000@www.filmhuismechelen.be
SUMMARY:BURNING
DESCRIPTION:Vertoning:\nMAANDAG 29 OKTOBER om 20u30.\n\n\n\n\n\n 
URL:https://www.filmhuismechelen.be/vertoning/burning/
CATEGORIES:Programma
END:VEVENT
END:VCALENDAR