BEGIN:VCALENDAR
VERSION:2.0
PRODID:-//Filmhuis Mechelen - ECPv4.3.1.1//NONSGML v1.0//EN
CALSCALE:GREGORIAN
METHOD:PUBLISH
X-WR-CALNAME:Filmhuis Mechelen
X-ORIGINAL-URL:https://www.filmhuismechelen.be
X-WR-CALDESC:Events for Filmhuis Mechelen
BEGIN:VEVENT
DTSTART;TZID=UTC+2:20181113T183000
DTEND;TZID=UTC+2:20181113T183000
DTSTAMP:20260421T194430
CREATED:20180904T212805Z
LAST-MODIFIED:20181102T093055Z
UID:10317-1542133800-1542133800@www.filmhuismechelen.be
SUMMARY:BLACKKKLANSMAN
DESCRIPTION:Vertoningen:\nDINSDAG 13 NOVEMBER om 18u30.\nDINSDAG 13 NOVEMBER om 20u30.\nMAANDAG 19 NOVEMBER om 18u30.\n\nAlle info\, trailer en recensies vindt u HIER!\n\n
URL:https://www.filmhuismechelen.be/vertoning/blackkklansman-2/
CATEGORIES:De dinsdagen van het Filmhuis,Programma
END:VEVENT
END:VCALENDAR