BEGIN:VCALENDAR
VERSION:2.0
PRODID:-//Filmhuis Mechelen - ECPv4.3.1.1//NONSGML v1.0//EN
CALSCALE:GREGORIAN
METHOD:PUBLISH
X-WR-CALNAME:Filmhuis Mechelen
X-ORIGINAL-URL:https://www.filmhuismechelen.be
X-WR-CALDESC:Events for Filmhuis Mechelen
BEGIN:VEVENT
DTSTART;TZID=UTC+2:20180529T183000
DTEND;TZID=UTC+2:20180529T183000
DTSTAMP:20260425T223726
CREATED:20180515T111451Z
LAST-MODIFIED:20180515T111451Z
UID:9966-1527618600-1527618600@www.filmhuismechelen.be
SUMMARY:BITTER FLOWERS
DESCRIPTION:TWEE VERTONINGEN:\nDINSDAG 29 MEI om 18u30\nMAANDAG 4 JUNI om 18u30\n\n\n
URL:https://www.filmhuismechelen.be/vertoning/bitter-flowers/
CATEGORIES:De dinsdagen van het Filmhuis,Programma
END:VEVENT
END:VCALENDAR