BEGIN:VCALENDAR
VERSION:2.0
PRODID:-//Filmhuis Mechelen - ECPv4.3.1.1//NONSGML v1.0//EN
CALSCALE:GREGORIAN
METHOD:PUBLISH
X-WR-CALNAME:Filmhuis Mechelen
X-ORIGINAL-URL:https://www.filmhuismechelen.be
X-WR-CALDESC:Events for Filmhuis Mechelen
BEGIN:VEVENT
DTSTART;TZID=UTC+2:20211026T183000
DTEND;TZID=UTC+2:20211026T183000
DTSTAMP:20260422T234518
CREATED:20210920T124140Z
LAST-MODIFIED:20210923T192325Z
UID:23197-1635273000-1635273000@www.filmhuismechelen.be
SUMMARY:BENEDETTA
DESCRIPTION:Vertoningen:\nDINSDAG 26 OKTOBER om 18u30 - tickets voor deze vertoning HIER!\nDINSDAG 26 OKTOBER om 20u45  - tickets voor deze vertoning HIER!\n\nTIP: koop eerst uw SEIZOENSKAART en bespaar zo 2 euro per vertoning!\n\n
URL:https://www.filmhuismechelen.be/vertoning/benedetta/
LOCATION:Minderbroedersgang 5\, Mechelen\, 2800
CATEGORIES:De dinsdagen van het Filmhuis,Programma
END:VEVENT
END:VCALENDAR