BEGIN:VCALENDAR
VERSION:2.0
PRODID:-//Filmhuis Mechelen - ECPv4.3.1.1//NONSGML v1.0//EN
CALSCALE:GREGORIAN
METHOD:PUBLISH
X-WR-CALNAME:Filmhuis Mechelen
X-ORIGINAL-URL:https://www.filmhuismechelen.be
X-WR-CALDESC:Events for Filmhuis Mechelen
BEGIN:VEVENT
DTSTART;TZID=UTC+2:20190121T183000
DTEND;TZID=UTC+2:20190121T183000
DTSTAMP:20260423T113545
CREATED:20181121T134023Z
LAST-MODIFIED:20190111T084131Z
UID:10868-1548095400-1548095400@www.filmhuismechelen.be
SUMMARY:BECOMING ASTRID
DESCRIPTION:Vertoningen:\nDINSDAG 15 JANUARI om 20u30.\nMAANDAG 21 JANUARI om 18u30.\n\nAlle info\, trailer en recensies vindt u HIER!\n\n
URL:https://www.filmhuismechelen.be/vertoning/becoming-astrid-2/
CATEGORIES:De dinsdagen van het Filmhuis,Programma
END:VEVENT
END:VCALENDAR