BEGIN:VCALENDAR
VERSION:2.0
PRODID:-//Filmhuis Mechelen - ECPv4.3.1.1//NONSGML v1.0//EN
CALSCALE:GREGORIAN
METHOD:PUBLISH
X-WR-CALNAME:Filmhuis Mechelen
X-ORIGINAL-URL:https://www.filmhuismechelen.be
X-WR-CALDESC:Events for Filmhuis Mechelen
BEGIN:VEVENT
DTSTART;TZID=UTC+2:20181217T183000
DTEND;TZID=UTC+2:20181217T183000
DTSTAMP:20260421T215602
CREATED:20181107T221038Z
LAST-MODIFIED:20181212T033458Z
UID:10685-1545071400-1545071400@www.filmhuismechelen.be
SUMMARY:BEAUTIFUL BOY
DESCRIPTION:Vertoning:\nMAANDAG 17 DECEMBER om 18u30.\n\n
URL:https://www.filmhuismechelen.be/vertoning/beautiful-boy-2/
CATEGORIES:Zomerfilms
END:VEVENT
END:VCALENDAR