BEGIN:VCALENDAR
VERSION:2.0
PRODID:-//Filmhuis Mechelen - ECPv4.3.1.1//NONSGML v1.0//EN
CALSCALE:GREGORIAN
METHOD:PUBLISH
X-WR-CALNAME:Filmhuis Mechelen
X-ORIGINAL-URL:https://www.filmhuismechelen.be
X-WR-CALDESC:Events for Filmhuis Mechelen
BEGIN:VEVENT
DTSTART;TZID=UTC+2:20191223T204500
DTEND;TZID=UTC+2:20191223T204500
DTSTAMP:20260420T224420
CREATED:20191106T155455Z
LAST-MODIFIED:20191217T181811Z
UID:12982-1577133900-1577133900@www.filmhuismechelen.be
SUMMARY:BEATS
DESCRIPTION:Vertoning:\nMAANDAG 23 DECEMBER om 20u45.\n\nALLE INFO\, TRAILER & RECENSIES HIER!\n\n
URL:https://www.filmhuismechelen.be/vertoning/beats-1/
CATEGORIES:Programma
END:VEVENT
END:VCALENDAR