BEGIN:VCALENDAR
VERSION:2.0
PRODID:-//Filmhuis Mechelen - ECPv4.3.1.1//NONSGML v1.0//EN
CALSCALE:GREGORIAN
METHOD:PUBLISH
X-WR-CALNAME:Filmhuis Mechelen
X-ORIGINAL-URL:https://www.filmhuismechelen.be
X-WR-CALDESC:Events for Filmhuis Mechelen
BEGIN:VEVENT
DTSTART;TZID=UTC+2:20201109T183000
DTEND;TZID=UTC+2:20201109T183000
DTSTAMP:20260421T035017
CREATED:20200829T120711Z
LAST-MODIFIED:20201020T202407Z
UID:17662-1604946600-1604946600@www.filmhuismechelen.be
SUMMARY:BEANPOLE - vertoning verplaatst
DESCRIPTION:UPDATE: door de nieuwe coronamaatregelen hebben we beslist onze vertoningen voorlopig op te schorten.\nDeze film blijft op ons programma\, maar wordt naar een latere datum verschoven!\n\nGekochte tickets worden uiteraard terugbetaald.\n\nIn het kader van het Holebifilmfestival!\n\nALLE INFO\, TRAILER & RECENSIES HIER!\n\n
URL:https://www.filmhuismechelen.be/vertoning/beanpole-3/
CATEGORIES:Programma
END:VEVENT
END:VCALENDAR