BEGIN:VCALENDAR
VERSION:2.0
PRODID:-//Filmhuis Mechelen - ECPv4.3.1.1//NONSGML v1.0//EN
CALSCALE:GREGORIAN
METHOD:PUBLISH
X-WR-CALNAME:Filmhuis Mechelen
X-ORIGINAL-URL:https://www.filmhuismechelen.be
X-WR-CALDESC:Events for Filmhuis Mechelen
BEGIN:VEVENT
DTSTART;TZID=UTC+2:20201027T203500
DTEND;TZID=UTC+2:20201027T203500
DTSTAMP:20260420T205711
CREATED:20201008T180255Z
LAST-MODIFIED:20201020T200113Z
UID:18286-1603830900-1603830900@www.filmhuismechelen.be
SUMMARY:BABYTEETH - vertoning verplaatst
DESCRIPTION:UPDATE: door de nieuwe coronamaatregelen hebben we beslist onze vertoningen voorlopig op te schorten.\nDeze film blijft op ons programma\, maar wordt naar een latere datum verschoven!\n\nGekochte tickets worden uiteraard terugbetaald.\n\n\n\n 
URL:https://www.filmhuismechelen.be/vertoning/babyteeth/
CATEGORIES:De dinsdagen van het Filmhuis,Programma
END:VEVENT
END:VCALENDAR