BEGIN:VCALENDAR
VERSION:2.0
PRODID:-//Filmhuis Mechelen - ECPv4.3.1.1//NONSGML v1.0//EN
CALSCALE:GREGORIAN
METHOD:PUBLISH
X-WR-CALNAME:Filmhuis Mechelen
X-ORIGINAL-URL:https://www.filmhuismechelen.be
X-WR-CALDESC:Events for Filmhuis Mechelen
BEGIN:VEVENT
DTSTART;TZID=UTC+2:20211102T204000
DTEND;TZID=UTC+2:20211102T204000
DTSTAMP:20260423T013357
CREATED:20211020T215218Z
LAST-MODIFIED:20211101T180018Z
UID:23377-1635885600-1635885600@www.filmhuismechelen.be
SUMMARY:BABYTEETH
DESCRIPTION:\n\nOPGELET: de coronaregels zijn opnieuw veranderd!\nVanaf 1 november werken we met het COVID SAFE TICKET.\n\nVertoningen:\nDINSDAG 2 NOVEMBER om 20u40 - tickets voor deze vertoning HIER!\n\nDINSDAG 9 NOVEMBER om 18u30 - tickets voor deze vertoning HIER!\n\nTIP: koop eerst uw SEIZOENSKAART en bespaar zo 2 euro per vertoning!\n\n \n\nALLE INFO & TRAILER HIER!\n\n
URL:https://www.filmhuismechelen.be/vertoning/babyteeth-3/
LOCATION:Minderbroedersgang 5\, Mechelen\, 2800
CATEGORIES:De dinsdagen van het Filmhuis,Programma
END:VEVENT
END:VCALENDAR