BEGIN:VCALENDAR
VERSION:2.0
PRODID:-//Filmhuis Mechelen - ECPv4.3.1.1//NONSGML v1.0//EN
CALSCALE:GREGORIAN
METHOD:PUBLISH
X-WR-CALNAME:Filmhuis Mechelen
X-ORIGINAL-URL:https://www.filmhuismechelen.be
X-WR-CALDESC:Events for Filmhuis Mechelen
BEGIN:VEVENT
DTSTART;TZID=UTC+2:20171031T203000
DTEND;TZID=UTC+2:20171031T203000
DTSTAMP:20260425T173730
CREATED:20170825T134929Z
LAST-MODIFIED:20171026T010309Z
UID:8004-1509481800-1509481800@www.filmhuismechelen.be
SUMMARY:AYA DE YOPOUGON
DESCRIPTION:Vertoning om 20u30.\n\nALLE INFO HIER.\n\nTICKETS RESERVEREN KAN HIER.\n\nEen vertoning in het kader van het AnimaLuna-animatiefilmfestival.\n\nDe opbrengst gaat integraal naar het project van Broederlijk Delen in Burkina Faso.\n\n\nEen organisatie i.s.m. Kidscam\, Cultuurcentrum Mechelen\, Ciné Horizon en Mechelen Mondiaal.
URL:https://www.filmhuismechelen.be/vertoning/aya-de-yopougon/
CATEGORIES:De dinsdagen van het Filmhuis,Programma
END:VEVENT
END:VCALENDAR