BEGIN:VCALENDAR
VERSION:2.0
PRODID:-//Filmhuis Mechelen - ECPv4.3.1.1//NONSGML v1.0//EN
CALSCALE:GREGORIAN
METHOD:PUBLISH
X-WR-CALNAME:Filmhuis Mechelen
X-ORIGINAL-URL:https://www.filmhuismechelen.be
X-WR-CALDESC:Events for Filmhuis Mechelen
BEGIN:VEVENT
DTSTART;TZID=UTC+2:20260205T203000
DTEND;TZID=UTC+2:20260205T203000
DTSTAMP:20260419T144543
CREATED:20260109T034621Z
LAST-MODIFIED:20260130T150006Z
UID:36646-1770323400-1770323400@www.filmhuismechelen.be
SUMMARY:ARTSEN TUSSEN HITLER EN HIPPOCRATES\, TUSSEN GENT EN BERLIJN
DESCRIPTION:Vertoning:\nDONDERDAG 5 FEBRUARI om 20u30\n\nDe film wordt voor de belangstellenden vanaf 20u15 ingeleid door dr. Yves Louis\nDe film zelf start om 20u30\n\nTICKETS voor deze vertoning HIER!\n\nALLE INFO & TRAILER HIER!\n\n\nDeze vertoning wordt georganiseerd in samenwerking met:\n– het 8 Mei-comité Mechelen-Lier\n- NCPGR\n- de Groep Herinnering-Groupe Mémoire\n\n
URL:https://www.filmhuismechelen.be/vertoning/artsen-tussen-hitler-en-hippocrates-tussen-gent-en-berlijn/
LOCATION:Oude Brusselsestraat 10\, Mechelen\, 2800\, België
CATEGORIES:Documentaire,Programma
END:VEVENT
END:VCALENDAR