BEGIN:VCALENDAR
VERSION:2.0
PRODID:-//Filmhuis Mechelen - ECPv4.3.1.1//NONSGML v1.0//EN
CALSCALE:GREGORIAN
METHOD:PUBLISH
X-WR-CALNAME:Filmhuis Mechelen
X-ORIGINAL-URL:https://www.filmhuismechelen.be
X-WR-CALDESC:Events for Filmhuis Mechelen
BEGIN:VEVENT
DTSTART;TZID=UTC+2:20180115T203000
DTEND;TZID=UTC+2:20180115T203000
DTSTAMP:20260425T173818
CREATED:20171108T193019Z
LAST-MODIFIED:20171108T193019Z
UID:8611-1516048200-1516048200@www.filmhuismechelen.be
SUMMARY:ART & FILM: LOVING VINCENT
DESCRIPTION:Vertoning om 20u30.\n\nEen organisatie i.s.m. Academie Mechelen.\n\n\n
URL:https://www.filmhuismechelen.be/vertoning/art-film-loving-vincent/
CATEGORIES:Programma
END:VEVENT
END:VCALENDAR