BEGIN:VCALENDAR
VERSION:2.0
PRODID:-//Filmhuis Mechelen - ECPv4.3.1.1//NONSGML v1.0//EN
CALSCALE:GREGORIAN
METHOD:PUBLISH
X-WR-CALNAME:Filmhuis Mechelen
X-ORIGINAL-URL:https://www.filmhuismechelen.be
X-WR-CALDESC:Events for Filmhuis Mechelen
BEGIN:VEVENT
DTSTART;TZID=UTC+2:20171030T203000
DTEND;TZID=UTC+2:20171030T203000
DTSTAMP:20260425T174246
CREATED:20170928T122141Z
LAST-MODIFIED:20171026T010720Z
UID:8238-1509395400-1509395400@www.filmhuismechelen.be
SUMMARY:Art & Film: HANS OP DE BEECK - animatiefilms + Artist Talk
DESCRIPTION:Vertoning om 20u30\n\nTICKETS RESERVEREN KAN HIER.\n-------\n\nTwee halflange animatiefilms van beeldend kunstenaar Hans Op de Beeck.\n\n‘Night Time’ is geconcipieerd als een mysterieuze droom\, terwijl ‘Staging Silence’ opgebouwd is rond abstracte\, archetypische plekken en decors die in het geheugen van de artiest bleven hangen.\n\nDeze vertoningen worden gecombineerd met een Artist Talk van Hans Op de Beeck!\n\nEen organisatie i.h.k.v. het AnimaLuna-animatiefilmfestival\, i.s.m. Academie Mechelen.\n\n[caption id="attachment_8253" align="aligncenter" width="584"] © studio Hans Op de Beeck[/caption]
URL:https://www.filmhuismechelen.be/vertoning/art-film-hans-op-de-beeck-animatiefilms-artist-talk/
CATEGORIES:Programma
END:VEVENT
END:VCALENDAR