BEGIN:VCALENDAR
VERSION:2.0
PRODID:-//Filmhuis Mechelen - ECPv4.3.1.1//NONSGML v1.0//EN
CALSCALE:GREGORIAN
METHOD:PUBLISH
X-WR-CALNAME:Filmhuis Mechelen
X-ORIGINAL-URL:https://www.filmhuismechelen.be
X-WR-CALDESC:Events for Filmhuis Mechelen
BEGIN:VEVENT
DTSTART;TZID=UTC+2:20181008T203000
DTEND;TZID=UTC+2:20181008T203000
DTSTAMP:20260423T085902
CREATED:20180902T230715Z
LAST-MODIFIED:20180905T131413Z
UID:10253-1539030600-1539030600@www.filmhuismechelen.be
SUMMARY:Art & Film: FINAL PORTRAIT
DESCRIPTION:Vertoning:\nMAANDAG 8 OKTOBER om 20u30.\n\nAlle info\, trailer en recensies vindt u HIER!\n\nEen organisatie i.s.m. Academie Mechelen.\n\n
URL:https://www.filmhuismechelen.be/vertoning/art-film-final-portrait/
CATEGORIES:Programma
END:VEVENT
END:VCALENDAR