BEGIN:VCALENDAR
VERSION:2.0
PRODID:-//Filmhuis Mechelen - ECPv4.3.1.1//NONSGML v1.0//EN
CALSCALE:GREGORIAN
METHOD:PUBLISH
X-WR-CALNAME:Filmhuis Mechelen
X-ORIGINAL-URL:https://www.filmhuismechelen.be
X-WR-CALDESC:Events for Filmhuis Mechelen
BEGIN:VEVENT
DTSTART;TZID=UTC+2:20170614T190000
DTEND;TZID=UTC+2:20170614T190000
DTSTAMP:20260426T003229
CREATED:20170505T185611Z
LAST-MODIFIED:20170505T185719Z
UID:7749-1497466800-1497466800@www.filmhuismechelen.be
SUMMARY:ART & FILM #08: JAN HOET: HEILIG VUUR
DESCRIPTION:Deze vertoning wordt omkaderd door een gesprek met regisseur Jos Van den Bergh en andere gasten over Jan Hoet en de Documenta.\n\nGratis inkom!\n\nEen organisatie i.s.m. de Academie Mechelen.\n\n
URL:https://www.filmhuismechelen.be/vertoning/art-film-08-jan-hoet-heilig-vuur/
CATEGORIES:Programma
END:VEVENT
END:VCALENDAR