BEGIN:VCALENDAR
VERSION:2.0
PRODID:-//Filmhuis Mechelen - ECPv4.3.1.1//NONSGML v1.0//EN
CALSCALE:GREGORIAN
METHOD:PUBLISH
X-WR-CALNAME:Filmhuis Mechelen
X-ORIGINAL-URL:https://www.filmhuismechelen.be
X-WR-CALDESC:Events for Filmhuis Mechelen
BEGIN:VEVENT
DTSTART;TZID=UTC+2:20190513T203000
DTEND;TZID=UTC+2:20190513T203000
DTSTAMP:20260421T081757
CREATED:20190129T182355Z
LAST-MODIFIED:20190417T182807Z
UID:11329-1557779400-1557779400@www.filmhuismechelen.be
SUMMARY:ART & FILM #08: AT ETERNITY'S GATE
DESCRIPTION:Vertoningen:\nMAANDAG 13 MEI om 20u30.\nDINSDAG 14 MEI om 18u30.\n\nEen organisatie i.s.m. Academie Mechelen.\n\n\n\n 
URL:https://www.filmhuismechelen.be/vertoning/art-film-08-at-eternitys-gate/
CATEGORIES:Programma
END:VEVENT
END:VCALENDAR